BEGIN:VCALENDAR
VERSION:2.0
PRODID:-//wp-events-plugin.com//7.2.3.1//EN
TZID:Europe/Berlin
X-WR-TIMEZONE:Europe/Berlin
BEGIN:VEVENT
UID:41@dm23.tul-rossdorf.de
DTSTART;TZID=Europe/Berlin:20230909T183000
DTEND;TZID=Europe/Berlin:20230909T210000
DTSTAMP:20230621T172720Z
URL:https://dm23.tul-rossdorf.de/ich-moechte-helfen/springer-10/
SUMMARY:Springer
DESCRIPTION:Als Springer hast Du "Rufbereitschaft" und hilfst\, falls jeman
 s kurzfristig ausfällt.\n\nSchichtbeginn um 18:30 Uhr\nSchichtende um 21:
 00 Uhr\n\nOrt: Rehberghalle
ATTACH;FMTTYPE=image/jpeg:https://dm23.tul-rossdorf.de/wp-content/uploads/
 2023/06/springer.jpeg
CATEGORIES:Springer
LOCATION:Rehberghalle\, Ringstraße 61\, Roßdorf\, 64380\, Deutschland
GEO:49.855418;8.751238
X-APPLE-STRUCTURED-LOCATION;VALUE=URI;X-ADDRESS=Ringstraße 61\, Roßdorf\,
  64380\, Deutschland;X-APPLE-RADIUS=100;X-TITLE=Rehberghalle:geo:49.855418
 ,8.751238
END:VEVENT
BEGIN:VTIMEZONE
TZID:Europe/Berlin
X-LIC-LOCATION:Europe/Berlin
BEGIN:DAYLIGHT
DTSTART:20230326T030000
TZOFFSETFROM:+0100
TZOFFSETTO:+0200
TZNAME:CEST
END:DAYLIGHT
END:VTIMEZONE
END:VCALENDAR